BEGIN:VCALENDAR
METHOD:PUBLISH
PRODID:Data::ICal 0.13
VERSION:2.0
BEGIN:VEVENT
DESCRIPTION:Celebrate Valentine’s Day with an unforgettable night of soul, love, and powerhouse vocals as Fantasia joins forces with Anthony Hamilton for a special live performance on February 14. Two Grammy-winning voices, one stage, and an evening filled with timeless hits, raw emotion, and grown-and-sexy vibes come together for a concert experience made for couples, friends, and true R&amp;B fans alike. This is the perfect way to set the mood and make Valentine’s Day one to remember.
DTSTAMP:20260422T104204Z
DTSTART;TZID=America/Chicago:20260214T114047
DTEND;TZID=America/Chicago:20260214T114047
LOCATION:1510 Polk St\, Houston\, Texas
SUMMARY:Fantasia &amp; Anthony Hamilton Valentine’s Day Concert Coming Feb 14.
UID:6833330-1771069247-1771069247
END:VEVENT
END:VCALENDAR
